Workbook
Name _A65553: '5 RIEPILOGO PRODOTTI FINITI'!$D$65
Name Excel_BuiltIn_Print_Area: '1.2 CONTO ECONOMICO POST'!$A$1:$M$95

Sheet 2-1_PROGETTI_OUT
A1: MISURA | B1: CUAA | C1: PROT-N | D1: DEL | E1: 2-2 | F1: 2-3 | G1: 2-4 | H1: 2-5 | I1: 2-6 | J1: 2-7 | K1: 2-8 | L1: 2-9 | M1: 2-37 | N1: 2-38
A2: #REF! | B2: #VALUE! | C2: #VALUE! | D2: #REF! | E2: #VALUE! | F2: #VALUE! | G2: #VALUE! | H2: #REF! | I2: #VALUE! | J2: #VALUE! | K2: #VALUE! | L2: #VALUE! | M2: #VALUE! | N2: #REF!

Sheet 1.1 CONTO ECONOMICO ANTE
D3: AVEPA - Agenzia veneta | E3: P.S.R. Veneto 2014-2020 | I3: azienda | K3: DITTA
D4: per i pagamenti in agricoltura | E4: PIANO D'INVESTIMENTO AGROINDUSTRIALE
I5: CUAA | K5: 421
C8: CONTO ECONOMICO RICLASSIFICATO
G11: -3 | I11: -2 | K11: -1
C12: 1,1,1 | D12: Anno di competenza dell'esercizio finanziario
C14: 1,1,2 | D14: Ricavi netti delle vendite e prestazioni
C16: 1,1,3 | D16: Variazione rimanenze di prodotti lavorati, semil. e finiti
C18: 1,1,4 | D18: Incrementi di immobilizzazioni per lavori interni
C20: 1,1,5 | D20: Contributi in conto esercizio
C22: 1,1,6 | D22: Altri ricavi e proventi
C24: 1,1,7 | D24: VALORE DELLA PRODUZIONE | G24: =+G14+G16+G18+G20+G22 -> 0 | I24: =+I14+I16+I18+I20+I22 -> 0 | K24: =+K14+K16+K18+K20+K22 -> 0
C26: 1,1,8 | D26: Valore del conferimento dei soci (acquisti)
C28: 1,1,9 | D28: Altri acquisti di materie di consumo
C30: 1,1,10 | D30: Variazione delle materie prime, di consumo e di merci
C32: 1,1,11 | D32: Servizi e godimento beni di terzi
C34: 1,1,12 | D34: VALORE AGGIUNTO (ante) | G34: =+G24-G26-G28-G30-G32 -> 0 | I34: =+I24-I26-I28-I30-I32 -> 0 | K34: =+K24-K26-K28-K30-K32 -> 0
C36: 1,1,13 | D36: Costo del lavoro
C38: 1,1,14 | D38: MARGINE OPERATIVO LORDO | G38: =+G34-G36 -> 0 | I38: =+I34-I36 -> 0 | K38: =+K34-K36 -> 0
C40: 1,1,15 | D40: Ammortamento delle immobilizzazioni materiali
C42: 1,1,16 | D42: Ammortamento delle immobilizzazioni immateriali
C44: 1,1,17 | D44: Accantonamenti fondo TFR
C46: 1,1,18 | D46: Altri accantonamenti
C48: 1,1,19 | D48: Oneri diversi di gestione
C50: 1,1,20 | D50: RISULTATO OPERATIVO DELLA GES. CARATT. | G50: =+G38-G40-G42-G44-G46-G48 -> 0 | I50: =+I38-I40-I42-I44-I46-I48 -> 0 | K50: =+K38-K40-K42-K44-K46-K48 -> 0
E53: P.S.R. Veneto 2014-2020 | I53: azienda | K53: =K3 -> DITTA
D54: AVEPA - Agenzia veneta | E54: PIANO D'INVESTIMENTO AGROINDUSTRIALE | K54: =K4 -> 0
D55: per i pagamenti in agricoltura | I55: CUAA | K55: =$K$5 -> 421
C61: 1,1,21 | D61: Proventi finanziari
C63: 1,1,22 | D63: Interessi ed altri oneri finanziari
C65: 1,1,23 | D65: RISULTATO DELLA GESTIONE FINANZIARIA | G65: =+G50+G61-G63 -> 0 | I65: =+I50+I61-I63 -> 0 | K65: =+K50+K61-K63 -> 0
C67: 1,1,24 | D67: Saldo rivalutazioni/svalutazioni
C69: 1,1,25 | D69: Saldo proventi/oneri straordinari
C71: 1,1,26 | D71: RISULTATO ANTE IMPOSTE | G71: =+G65+G67+G69 -> 0 | I71: =+I65+I67+I69 -> 0 | K71: =+K65+K67+K69 -> 0
C73: 1,1,27 | D73: Imposte sul reddito di esercizio
C75: 1,1,28 | D75: UTILE (PERDITA) DELL'ESERCIZIO | G75: =+G71-G73 -> 0 | I75: =+I71-I73 -> 0 | K75: =+K71-K73 -> 0
D76: (= REDDITO NETTO DI ESERCIZIO)
C79: N.B. - Tutti i valori devono essere espressi in Euro senza arrotondamenti

Sheet 1.2 CONTO ECONOMICO POST
D3: AVEPA - Agenzia veneta | E3: P.S.R. Veneto 2014-2020 | I3: azienda | K3: ='1.1 CONTO ECONOMICO ANTE'!$K$3 -> DITTA
D4: per i pagamenti in agricoltura | E4: PIANO D'INVESTIMENTO AGROINDUSTRIALE | K4: ='1.1 CONTO ECONOMICO ANTE'!$K$4 -> 0
I5: CUAA | K5: ='1.1 CONTO ECONOMICO ANTE'!$K$5 -> 421
C8: CONTO ECONOMICO RICLASSIFICATO
G11: +1 | I11: +2 | K11: +3
C12: 1,2,1 | D12: Anno di competenza dell'esercizio finanziario
C14: 1,2,2 | D14: Ricavi netti delle vendite e prestazioni
C16: 1,2,3 | D16: Variazione rimanenze di prodotti lavorati, semil. e finiti
C18: 1,2,4 | D18: Incrementi di immobilizzazioni per lavori interni
C20: 1,2,5 | D20: Contributi in conto esercizio
C22: 1,2,6 | D22: Altri ricavi e proventi
C24: 1,2,7 | D24: VALORE DELLA PRODUZIONE | G24: =+G14+G16+G18+G20+G22 -> 0 | I24: =+I14+I16+I18+I20+I22 -> 0 | K24: =+K14+K16+K18+K20+K22 -> 0
C26: 1,2,8 | D26: Valore del conferimento dei soci (acquisti)
C28: 1,2,9 | D28: Altri acquisti di materie di consumo
C30: 1,2,10 | D30: Variazione delle materie prime, di consumo e di merci
C32: 1,2,11 | D32: Servizi e godimento beni di terzi
C34: 1,2,12 | D34: VALORE AGGIUNTO (post) | G34: =+G24-G26-G28-G30-G32 -> 0 | I34: =+I24-I26-I28-I30-I32 -> 0 | K34: =+K24-K26-K28-K30-K32 -> 0
C36: 1,2,13 | D36: Costo del lavoro
C38: 1,2,14 | D38: MARGINE OPERATIVO LORDO | G38: =+G34-G36 -> 0 | I38: =+I34-I36 -> 0 | K38: =+K34-K36 -> 0
C40: 1,2,15 | D40: Ammortamento delle immobilizzazioni materiali
C42: 1,2,16 | D42: Ammortamento delle immobilizzazioni immateriali
C44: 1,2,17 | D44: Accantonamenti fondo TFR
C46: 1,2,18 | D46: Altri accantonamenti
C48: 1,2,19 | D48: Oneri diversi di gestione
C50: 1,2,20 | D50: RISULTATO OPERATIVO DELLA GES. CARATT. | G50: =+G38-G40-G42-G44-G46-G48 -> 0 | I50: =+I38-I40-I42-I44-I46-I48 -> 0 | K50: =+K38-K40-K42-K44-K46-K48 -> 0
E53: P.S.R. Veneto 2014-2020 | I53: azienda | K53: ='1.1 CONTO ECONOMICO ANTE'!$K$3 -> DITTA
D54: AVEPA - Agenzia veneta | E54: PIANO D'INVESTIMENTO AGROINDUSTRIALE | K54: ='1.1 CONTO ECONOMICO ANTE'!$K$4 -> 0
D55: per i pagamenti in agricoltura | I55: CUAA | K55: ='1.1 CONTO ECONOMICO ANTE'!$K$5 -> 421
C58: CONTO ECONOMICO RICLASSIFICATO
C61: 1,2,21 | D61: Proventi finanziari
C63: 1,2,22 | D63: Interessi ed altri oneri finanziari
C65: 1,2,23 | D65: RISULTATO DELLA GESTIONE FINANZIARIA | G65: =+G50+G61-G63 -> 0 | I65: =+I50+I61-I63 -> 0 | K65: =+K50+K61-K63 -> 0
C67: 1,2,24 | D67: Saldo rivalutazioni/svalutazioni
C69: 1,2,25 | D69: Saldo proventi/oneri straordinari
C71: 1,2,26 | D71: RISULTATO ANTE IMPOSTE | G71: =+G65+G67+G69 -> 0 | I71: =+I65+I67+I69 -> 0 | K71: =+K65+K67+K69 -> 0
C73: 1,2,27 | D73: Imposte sul reddito di esercizio
C75: 1,2,28 | D75: UTILE (PERDITA) DELL'ESERCIZIO | G75: =+G71-G73 -> 0 | I75: =+I71-I73 -> 0 | K75: =+K71-K73 -> 0
D76: (= REDDITO NETTO DI ESERCIZIO)
C79: N.B. - Tutti i valori devono essere espressi in Euro senza arrotondamenti

Sheet 2.1  STATO PATRIMONIALE ANTE
D3: AVEPA - Agenzia veneta | E3: P.S.R. Veneto 2014-2020 | I3: azienda | K3: ='1.1 CONTO ECONOMICO ANTE'!$K$3 -> DITTA
D4: per i pagamenti in agricoltura | E4: PIANO D'INVESTIMENTO AGROINDUSTRIALE | K4: ='1.1 CONTO ECONOMICO ANTE'!$K$4 -> 0
I5: CUAA | K5: ='1.1 CONTO ECONOMICO ANTE'!$K$5 -> 421
C8: STATO PATRIMONIALE
G11: -3 | I11: -2 | K11: -1 | O11: -3 | P11: -2 | Q11: -1
C12: 2,1,1 | D12: Anno di competenza dell'esercizio finanziario | O12: =IF(G12>0,1,0) -> 0 | P12: =IF(I12>0,1,0) -> 0 | Q12: =IF(K12>0,1,0) -> 0
C14: 2,1,2 | D14: Cassa, banche, titoli di Stato | O14: =SUM(O12,P12,Q12) -> 0
C16: 2,1,3 | D16: Crediti a breve termine
C18: 2,1,4 | D18: Ratei attivi
C20: 2,1,5 | D20: Rimanenze
C22: 2,1,6 | D22: Risconti attivi
C24: 2,1,7 | D24: Crediti a lungo termine
C26: 2,1,8 | D26: Immobilizzazioni
C28: 2,1,9 | D28: TOTALE ATTIVO | G28: =+G14+G16+G18+G20+G22+G24+G26 -> 0 | I28: =+I14+I16+I18+I20+I22+I24+I26 -> 0 | K28: =+K14+K16+K18+K20+K22+K24+K26 -> 0
C32: N.B. - Tutti i valori devono essere espressi in Euro senza arrotondamenti

Sheet 2-1_STATO_PATRIMONIALE_OUT
A1: MISURA | B1: CUAA | C1: PROT-N | D1: DEL | E1: ANN0_-3 | F1: ANNO_-2 | G1: ANNO_-1 | H1: 3-10_-3 | I1: 3-10_-2 | J1: 3-10_-1
A2: ='2.1 STATO PATRIMONIALE ANTE'!G3 -> 0 | B2: =IF('2.1 STATO PATRIMONIALE ANTE'!K5>0,'2.1 STATO PATRIMONIALE ANTE'!K5,"-") -> 421 | C2: =IF('2.1 STATO PATRIMONIALE ANTE'!K3>0,'2.1 STATO PATRIMONIALE ANTE'!K3,"-") -> DITTA | D2: #REF! | E2: =IF('2.1 STATO PATRIMONIALE ANTE'!G12>0,'2.1 STATO PATRIMONIALE ANTE'!G12,"-") -> - | F2: =IF('2.1 STATO PATRIMONIALE ANTE'!I12>0,'2.1 STATO PATRIMONIALE ANTE'!I12,"-") -> - | G2: =IF('2.1 STATO PATRIMONIALE ANTE'!K12>0,'2.1 STATO PATRIMONIALE ANTE'!K12,"-") -> - | H2: ='2.1 STATO PATRIMONIALE ANTE'!G28 -> 0 | I2: ='2.1 STATO PATRIMONIALE ANTE'!I28 -> 0 | J2: ='2.1 STATO PATRIMONIALE ANTE'!K28 -> 0

Sheet 3-2_CONTO_ECONOMICO_OUT
A1: MISURA | B1: CUAA | C1: PROT-N | D1: DEL | E1: ANNO_-3 | F1: ANNO_-2 | G1: ANNO_-1 | H1: 3-9_-3 | I1: 3-9_-2 | J1: 3-9_-1 | K1: 3-14_-3 | L1: 3-14_-2 | M1: 3-14_-1 | N1: 3-16_-3 | O1: 3-16_-2 | P1: 3-16_-1 | Q1: 3-22_-3 | R1: 3-22_-2 | S1: 3-22_-1 | T1: 3-25_-3 | U1: 3-25_-2 | V1: 3-25_-1 | W1: 3-28_-3 | X1: 3-28_-2 | Y1: 3-28_-1 | Z1: 3-30_-3 | AA1: 3-30_-2 | AB1: 3-30_-1
A2: ='1.1 CONTO ECONOMICO ANTE'!G3 -> 0 | B2: =IF('1.1 CONTO ECONOMICO ANTE'!K5>0,'1.1 CONTO ECONOMICO ANTE'!K5,"-") -> 421 | C2: =IF('1.1 CONTO ECONOMICO ANTE'!K3>0,'1.1 CONTO ECONOMICO ANTE'!K3,"-") -> DITTA | D2: #REF! | E2: =IF('1.1 CONTO ECONOMICO ANTE'!G12>0,'1.1 CONTO ECONOMICO ANTE'!G12,"-") -> - | F2: =IF('1.1 CONTO ECONOMICO ANTE'!I12>0,'1.1 CONTO ECONOMICO ANTE'!I12,"-") -> - | G2: =IF('1.1 CONTO ECONOMICO ANTE'!K12>0,'1.1 CONTO ECONOMICO ANTE'!K12,"-") -> - | H2: ='1.1 CONTO ECONOMICO ANTE'!G24 -> 0 | I2: ='1.1 CONTO ECONOMICO ANTE'!I24 -> 0 | J2: ='1.1 CONTO ECONOMICO ANTE'!K24 -> 0 | K2: ='1.1 CONTO ECONOMICO ANTE'!G34 -> 0 | L2: ='1.1 CONTO ECONOMICO ANTE'!I34 -> 0 | M2: ='1.1 CONTO ECONOMICO ANTE'!K34 -> 0 | N2: ='1.1 CONTO ECONOMICO ANTE'!G38 -> 0 | O2: ='1.1 CONTO ECONOMICO ANTE'!I38 -> 0 | P2: ='1.1 CONTO ECONOMICO ANTE'!K38 -> 0 | Q2: ='1.1 CONTO ECONOMICO ANTE'!G50 -> 0 | R2: ='1.1 CONTO ECONOMICO ANTE'!I50 -> 0 | S2: ='1.1 CONTO ECONOMICO ANTE'!K50 -> 0 | T2: ='1.1 CONTO ECONOMICO ANTE'!G65 -> 0 | U2: ='1.1 CONTO ECONOMICO ANTE'!I65 -> 0 | V2: ='1.1 CONTO ECONOMICO ANTE'!K65 -> 0 | W2: ='1.1 CONTO ECONOMICO ANTE'!G71 -> 0 | X2: ='1.1 CONTO ECONOMICO ANTE'!I71 -> 0 | Y2: ='1.1 CONTO ECONOMICO ANTE'!K71 -> 0 | Z2: ='1.1 CONTO ECONOMICO ANTE'!G75 -> 0 | AA2: ='1.1 CONTO ECONOMICO ANTE'!I75 -> 0 | AB2: ='1.1 CONTO ECONOMICO ANTE'!K75 -> 0

Sheet 2.2  STATO PATRIMONIALE POST
D3: AVEPA - Agenzia veneta | E3: P.S.R. Veneto 2014-2020 | I3: azienda | K3: ='1.1 CONTO ECONOMICO ANTE'!$K$3 -> DITTA
D4: per i pagamenti in agricoltura | E4: PIANO D'INVESTIMENTO AGROINDUSTRIALE | K4: ='1.1 CONTO ECONOMICO ANTE'!$K$4 -> 0
I5: CUAA | K5: ='1.1 CONTO ECONOMICO ANTE'!$K$5 -> 421
C8: STATO PATRIMONIALE
G11: +1 | I11: +2 | K11: +3 | O11: -3 | P11: -2 | Q11: -1
C12: 2,2,1 | D12: Anno di competenza dell'esercizio finanziario | O12: =IF(G12>0,1,0) -> 0 | P12: =IF(I12>0,1,0) -> 0 | Q12: =IF(K12>0,1,0) -> 0
C14: 2,2,2 | D14: Cassa, banche, titoli di Stato | O14: =SUM(O12,P12,Q12) -> 0
C16: 2,2,3 | D16: Crediti a breve termine
C18: 2,2,4 | D18: Ratei attivi
C20: 2,2,5 | D20: Rimanenze
C22: 2,2,6 | D22: Risconti attivi
C24: 2,2,7 | D24: Crediti a lungo termine
C26: 2,2,8 | D26: Immobilizzazioni
C28: 2,2,9 | D28: TOTALE ATTIVO | G28: =+G14+G16+G18+G20+G22+G24+G26 -> 0 | I28: =+I14+I16+I18+I20+I22+I24+I26 -> 0 | K28: =+K14+K16+K18+K20+K22+K24+K26 -> 0
C32: N.B. - Tutti i valori devono essere espressi in Euro senza arrotondamenti

Sheet PREREQUISITO_1_ROI
D3: AVEPA - Agenzia veneta | E3: P.S.R. Veneto 2014-2020 | H3: azienda | I3: ='1.1 CONTO ECONOMICO ANTE'!$K$3 -> DITTA
D4: per i pagamenti in agricoltura | E4: PIANO D'INVESTIMENTO AGROINDUSTRIALE | I4: ='1.1 CONTO ECONOMICO ANTE'!$K$4 -> 0
H5: CUAA | I5: ='1.1 CONTO ECONOMICO ANTE'!$K$5 -> 421
C10: ROI 1 | D10: Anno di competenza dell'esercizio finanziario | F10: -3 | H10: -2 | J10: -1
C12: ROI 2 | D12: Attivo netto | F12: =+'2.1 STATO PATRIMONIALE ANTE'!G28 -> 0 | H12: =+'2.1 STATO PATRIMONIALE ANTE'!I28 -> 0 | J12: =+'2.1 STATO PATRIMONIALE ANTE'!K28 -> 0
C14: ROI 3 | D14: Reddito della gestione caratteristica | F14: =+'1.1 CONTO ECONOMICO ANTE'!G50 -> 0 | H14: =+'1.1 CONTO ECONOMICO ANTE'!I50 -> 0 | J14: =+'1.1 CONTO ECONOMICO ANTE'!K50 -> 0
C17: ROI 4 | D17: ROI ANNUO ANTE | F17: =IF(F12=0,0,(+F14/F12)) -> 0 | H17: =IF(H12=0,0,(+H14/H12)) -> 0 | J17: =IF(J12=0,0,(+J14/J12)) -> 0
C20: ROI 5 | D20: Anno di competenza dell'esercizio finanziario | F20: +1 | H20: +2 | J20: +3
C22: ROI 6 | D22: Attivo netto | F22: =+'2.2 STATO PATRIMONIALE POST'!G28 -> 0 | H22: =+'2.2 STATO PATRIMONIALE POST'!I28 -> 0 | J22: =+'2.2 STATO PATRIMONIALE POST'!K28 -> 0
C24: ROI 7 | D24: Reddito della gestione caratteristica | F24: =+'1.2 CONTO ECONOMICO POST'!G50 -> 0 | H24: =+'1.2 CONTO ECONOMICO POST'!I50 -> 0 | J24: =+'1.2 CONTO ECONOMICO POST'!K50 -> 0
C27: ROI 8 | D27: ROI ANNUO POST | F27: =IF(F22=0,0,(+F24/F22)) -> 0 | H27: =IF(H22=0,0,(+H24/H22)) -> 0 | J27: =IF(J22=0,0,(+J24/J22)) -> 0
C30: ROI 9 | D30: ROI MEDIO ANTE | F30: =(F17+H17+J17)/3 -> 0
C32: ROI 10 | D32: ROI MEDIO POST | F32: =(F27+H27+J27)/3 -> 0
C34: ROI 11 | D34: MIGLIORA IL RENDIMENTO GLOBALE | F34: =IF(F30<F32,"OK") -> FALSE
D37: VALORE AGGIUNTO OPERATIVO | F37: =+'1.1 CONTO ECONOMICO ANTE'!G34 -> 0 | H37: =+'1.1 CONTO ECONOMICO ANTE'!I34 -> 0 | J37: =+'1.1 CONTO ECONOMICO ANTE'!K34 -> 0
C41: 9.6 | D41: Numero di bilanci presentati | F41: ='2.1 STATO PATRIMONIALE ANTE'!O14 -> 0

Sheet PREREQUISITO_2_VALORE AGGIUNTO
D3: AVEPA - Agenzia veneta | E3: P.S.R. Veneto 2014-2020 | H3: azienda | I3: ='1.1 CONTO ECONOMICO ANTE'!$K$3 -> DITTA
D4: per i pagamenti in agricoltura | E4: PIANO D'INVESTIMENTO AGROINDUSTRIALE | I4: ='1.1 CONTO ECONOMICO ANTE'!$K$4 -> 0
H5: CUAA | I5: ='1.1 CONTO ECONOMICO ANTE'!$K$5 -> 421
C10: VA 1 | D10: Anno di competenza dell'esercizio finanziario | F10: -3 | H10: -2 | J10: -1
C12: VA 2 | D12: ='1.1 CONTO ECONOMICO ANTE'!$D$34 -> VALORE AGGIUNTO (ante) | F12: ='1.1 CONTO ECONOMICO ANTE'!$G$34 -> 0 | H12: ='1.1 CONTO ECONOMICO ANTE'!$I$34 -> 0 | J12: ='1.1 CONTO ECONOMICO ANTE'!$K$34 -> 0
C15: VA 3 | D15: Anno di competenza dell'esercizio finanziario | F15: +1 | H15: +2 | J15: +3
C17: VA 4 | D17: ='1.2 CONTO ECONOMICO POST'!$D$34 -> VALORE AGGIUNTO (post) | F17: ='1.2 CONTO ECONOMICO POST'!$G$34 -> 0 | H17: ='1.2 CONTO ECONOMICO POST'!$I$34 -> 0 | J17: ='1.2 CONTO ECONOMICO POST'!$K$34 -> 0
C20: VA 5 | D20: VALORE AGGIUNTO MEDIO ANTE | F20: =(F12+H12+J12)/3 -> 0
C22: VA 6 | D22: VALORE AGGIUNTO MEDIO POST | F22: =(F17+H17+J17)/3 -> 0
C24: VA 7 | D24: MIGLIORA IL RENDIMENTO GLOBALE | F24: =IF(F20<F22,"OK") -> FALSE
D27: VALORE AGGIUNTO OPERATIVO | F27: =+'1.1 CONTO ECONOMICO ANTE'!G34 -> 0 | H27: =+'1.1 CONTO ECONOMICO ANTE'!I34 -> 0 | J27: =+'1.1 CONTO ECONOMICO ANTE'!K34 -> 0
C31: 9.6 | D31: Numero di bilanci presentati | F31: ='2.1 STATO PATRIMONIALE ANTE'!O14 -> 0

Sheet 3 MATERIE PRIME
D3: AVEPA - Agenzia veneta | H3: P.S.R. Veneto 2014-2020 | Q3: azienda | R3: Prot. n. | S3: ='1.1 CONTO ECONOMICO ANTE'!$K$3 -> DITTA
D4: per i pagamenti in agricoltura | H4: PIANO D'INVESTIMENTO AGROINDUSTRIALE | S4: ='1.1 CONTO ECONOMICO ANTE'!$K$4 -> 0
Q5: CUAA | R5: CUAA | S5: ='1.1 CONTO ECONOMICO ANTE'!$K$5 -> 421
C8: MATERIE PRIME UTILIZZATE PRIMA E DOPO L'INVESTIMENTO
G11: DESCRIZIONE MATERIA PRIMA
C12: 1
G14: Anni precedenti la richiesta di finanziamento | P14: Anni successivi la richiesta di finanziamento
G16: - 3 | I16: - 2 | L16: - 1 | P16: +1 | S16: +2 | V16: +3
D18: QUANTITA' (Ton)
D20: VALORE (Euro)
C22: PROVENIENZA MATERIA PRIMA | J22: DA PRODUTTORI DI BASE | N22: DA ALTRI SOGGETTI
G25: DESCRIZIONE MATERIA PRIMA
C26: 2
G28: Anni precedenti la richiesta di finanziamento | P28: Anni successivi la richiesta di finanziamento
G30: - 3 | I30: - 2 | L30: - 1 | P30: +1 | S30: +2 | V30: +3
D32: QUANTITA' (Ton)
D34: VALORE (Euro)
C36: PROVENIENZA MATERIA PRIMA | J36: DA PRODUTTORI DI BASE | N36: DA ALTRI SOGGETTI
G39: DESCRIZIONE MATERIA PRIMA
C40: 3
G42: Anni precedenti la richiesta di finanziamento | P42: Anni successivi la richiesta di finanziamento
G44: - 3 | I44: - 2 | L44: - 1 | P44: +1 | S44: +2 | V44: +3
D46: QUANTITA' (Ton)
D48: VALORE (Euro)
C50: PROVENIENZA MATERIA PRIMA | J50: DA PRODUTTORI DI BASE | N50: DA ALTRI SOGGETTI
C52: N.B. ripetere i riquadri quante sono le tipologie (es. carne avicola o suinicola) o varietà (es. uva merlot) di materie prime utilizzate, distinte per destinazione, in prodotti con certificazione volontaria (es. UNI - ISO); di qualità riconosciuta CE (es. DOC); o senza certificazione
C55: 4 | G55: - 3 | I55: -2 | L55: - 1 | P55: + 1 | S55: + 2 | V55: + 3
D57: TOT. QUANTITA' | G57: =SUM(G18,G32,G46) -> 0 | I57: =+I18+I32+I46 -> 0 | L57: =SUM(L18,L32,L46) -> 0 | P57: =SUM(P18,P32,P46) -> 0 | S57: =SUM(S18,S32,S46) -> 0 | V57: =+V18+V32+V46 -> 0
D59: TOT. VALORE | G59: =SUM(G20,G34,G48) -> 0 | I59: =+I20+I34+I48 -> 0 | L59: =SUM(L20,L34,L48) -> 0 | P59: =+P20+P34+P48 -> 0 | S59: =SUM(S20,S34,S48) -> 0 | V59: =+V20+V34+V48 -> 0

Sheet 4-2_MATERIE_PRIME_OUT
A1: MISURA | B1: CUAA | C1: PROT-N | D1: DEL | E1: 4-6 | F1: 4-7 | G1: 4-8 | H1: 4-51_-3 | I1: 4-51_-2 | J1: 4-51_-1 | K1: 4-51_+1 | L1: 4-51_+2 | M1: 4-51_+3 | N1: 4-52_-3 | O1: 4-52_-2 | P1: 4-52_-1 | Q1: 4-52_+1 | R1: 4-52_+2 | S1: 4-52_+3
A2: ='3 MATERIE PRIME'!J3 -> 0 | B2: =IF('3 MATERIE PRIME'!S5>0,'3 MATERIE PRIME'!S5,"-") -> 421 | C2: =IF('3 MATERIE PRIME'!S3>0,'3 MATERIE PRIME'!S3,"-") -> DITTA | D2: #REF! | E2: =IF('3 MATERIE PRIME'!I22>0,'3 MATERIE PRIME'!I22,"-") -> - | F2: =IF('3 MATERIE PRIME'!L22>0,'3 MATERIE PRIME'!L22,"-") -> - | G2: =IF('3 MATERIE PRIME'!P22>0,'3 MATERIE PRIME'!P22,"-") -> - | H2: ='3 MATERIE PRIME'!G57 -> 0 | I2: #NAME? | J2: ='3 MATERIE PRIME'!L57 -> 0 | K2: ='3 MATERIE PRIME'!P57 -> 0 | L2: ='3 MATERIE PRIME'!S57 -> 0 | M2: #NAME? | N2: ='3 MATERIE PRIME'!G59 -> 0 | O2: #NAME? | P2: ='3 MATERIE PRIME'!L59 -> 0 | Q2: #NAME? | R2: ='3 MATERIE PRIME'!S59 -> 0 | S2: #NAME?

Sheet 3.1 RIEPILOGO MATERIE PRIME
D3: AVEPA - Agenzia veneta | E3: P.S.R. Veneto 2014-2020 | I3: azienda | K3: ='1.1 CONTO ECONOMICO ANTE'!$K$3 -> DITTA
D4: per i pagamenti in agricoltura | E4: PIANO D'INVESTIMENTO AGROINDUSTRIALE | K4: ='1.1 CONTO ECONOMICO ANTE'!$K$4 -> 0
I5: CUAA | K5: ='1.1 CONTO ECONOMICO ANTE'!$K$5 -> 421
C8: RIEPILOGO DELLE MATERIE PRIME ACQIUSTATE PRIMA DELL'INVESTIMENTO (ANNO -1)
D11: DESCRIZIONE | G11: QUANTITA' TON
C12: 3.1
C14: 3.2
C16: 3.3
C18: 3.4
C20: 3.5
C22: 3.6
C24: 3.7
C26: 3.8
C28: 3.9
C30: 3.1
C32: 3.11
C34: 3.12
... C50: 3.2
C52: 3.21 | D52: TOTALE MATERIE PRIME ACQUISTATE | G52: =SUM(G12,G14,G16,G18,G20,G22,G24,G26,G28,G30,G32,G34,G36,G38,G40,G42,G44,G46,G48,G50) -> 0

Sheet 4 PRODOTTI FINITI
D3: AVEPA - Agenzia veneta | H3: P.S.R. Veneto 2014-2020 | Q3: azienda | R3: Prot. n. | S3: ='1.1 CONTO ECONOMICO ANTE'!$K$3 -> DITTA
D4: per i pagamenti in agricoltura | H4: PIANO D'INVESTIMENTO AGROINDUSTRIALE | S4: ='1.1 CONTO ECONOMICO ANTE'!$K$4 -> 0
Q5: CUAA | R5: CUAA | S5: ='1.1 CONTO ECONOMICO ANTE'!$K$5 -> 421
C8: PRODOTTI TRASFORMATI/COMMERCIAL. PRIMA E DOPO L'INVESTIMENTO
G11: DESCRIZIONE PRODOTTO
C12: 1
G14: Anni precedenti la richiesta di finanziamento | P14: Anni successivi la richiesta di finanziamento
G16: - 3 | I16: - 2 | L16: - 1 | P16: +1 | S16: +2 | V16: +3
D18: QUANTITA' (Ton)
D20: VALORE (Euro)
C22: DESTINAZIONE PRODOTTO | J22: VENDITA DIRETTA | N22: COMMERCIO | Q22: SECONDA TRASFORMAZIONE
G25: DESCRIZIONE PRODOTTO
C26: 2
G28: Anni precedenti la richiesta di finanziamento | P28: Anni successivi la richiesta di finanziamento
G30: - 3 | I30: - 2 | L30: - 1 | P30: +1 | S30: +2 | V30: +3
D32: QUANTITA' (Ton)
D34: VALORE (Euro)
C36: DESTINAZIONE PRODOTTO | J36: VENDITA DIRETTA | N36: COMMERCIO | Q36: SECONDA TRASFORMAZIONE
G39: DESCRIZIONE PRODOTTO
C40: 3
G42: Anni precedenti la richiesta di finanziamento | P42: Anni successivi la richiesta di finanziamento
G44: - 3 | I44: - 2 | L44: - 1 | P44: +1 | S44: +2 | V44: +3
D46: QUANTITA' (Ton)
D48: VALORE (Euro)
C50: DESTINAZIONE PRODOTTO | J50: VENDITA DIRETTA | N50: COMMERCIO | Q50: SECONDA TRASFORMAZIONE
C52: N.B. ripetere i riquadri quante sono le tipologie (es. prosciutto) o varietà (es. vino soave) di prodotto finito, distinte per prodotti con certificazione volontaria (es. UNI - ISO); di qualità riconosciuta CE (es. DOC); o produzione senza certificazione.
C55: 4 | G55: - 3 | I55: -2 | L55: - 1 | P55: + 1 | S55: + 2 | V55: + 3
D57: TOT. QUANTITA' | G57: =SUM(G18,G32,G46) -> 0 | I57: =+I18+I32+I46 -> 0 | L57: =SUM(L18,L32,L46) -> 0 | P57: =SUM(P18,P32,P46) -> 0 | S57: =SUM(S18,S32,S46) -> 0 | V57: =+V18+V32+V46 -> 0
D59: TOT. VALORE | G59: =SUM(G20,G34,G48) -> 0 | I59: =+I20+I34+I48 -> 0 | L59: =SUM(L20,L34,L48) -> 0 | P59: =+P20+P34+P48 -> 0 | S59: =SUM(S20,S34,S48) -> 0 | V59: =+V20+V34+V48 -> 0

Sheet 5-1_PRODOTTI_OUT
A1: MISURA | B1: CUAA | C1: PROT-N | D1: DEL | E1: 5-5 | F1: 5-6 | G1: 5-7 | H1: 5-50_-3 | I1: 5-50_-2 | J1: 5-50_-1 | K1: 5-50_+1 | L1: 5-50_+2 | M1: 5-50_+3 | N1: 5-51_-3 | O1: 5-51_-2 | P1: 5-51_-1 | Q1: 5-51_+1 | R1: 5-51_+2 | S1: 5-51_+3 | T1: 5-A | U1: 5-B | V1: 5-C | W1: 5-D | X1: 5-E | Y1: 5-F | Z1: 5-G | AA1: 5-H | AB1: 5-I | AC1: 5-T
A2: #REF! | B2: #VALUE! | C2: #VALUE! | D2: #REF! | E2: #VALUE! | F2: #VALUE! | G2: #VALUE! | H2: #REF! | I2: #REF! | J2: #REF! | K2: #REF! | L2: #REF! | M2: #REF! | N2: #REF! | O2: #REF! | P2: #REF! | Q2: #REF! | R2: #REF! | S2: #REF! | T2: #REF! | U2: #REF! | V2: #REF! | W2: #REF! | X2: #REF! | Y2: #REF! | Z2: #REF! | AA2: #REF! | AB2: #REF! | AC2: #REF!

Sheet 5-4_PREZZI_MATERIE_PRIME_OUT
A1: MISURA | B1: CUAA | C1: PROT-N | D1: DEL | E1: ANNO_-3 | F1: ANNO_-2 | G1: ANNO_-1 | H1: 5-28_-3 | I1: 5-28_-2 | J1: 5-28_-1
A2: #REF! | B2: #VALUE! | C2: #VALUE! | D2: #REF! | E2: #VALUE! | F2: #VALUE! | G2: #VALUE! | H2: #REF! | I2: #REF! | J2: #REF!

Sheet 5 RIEPILOGO PRODOTTI FINITI
D3: AVEPA - Agenzia veneta | E3: P.S.R. Veneto 2014-2020 | I3: azienda | K3: ='1.1 CONTO ECONOMICO ANTE'!$K$3 -> DITTA
D4: per i pagamenti in agricoltura | E4: PIANO D'INVESTIMENTO AGROINDUSTRIALE | K4: ='1.1 CONTO ECONOMICO ANTE'!$K$4 -> 0
I5: CUAA | K5: ='1.1 CONTO ECONOMICO ANTE'!$K$5 -> 421
C8: DETERMINAZIONE DELLA PERCENTUALE DI PRODOTTI TRASFORMATI/COMMERCIAL.PRIMA DELL'INVESTIMENTO (ANNO -1)
D11: DESCRIZIONE | G11: A MARCHIO "CE" | I11: CERTIFICAZ. VOLONTARIA | K11: SENZA CERTIFICAZIONE
C12: 5.1
C14: 5.2
C16: 5.3
C18: 5.4
C20: 5.5
C22: 5.6
C24: 5.7
C26: 5.8
C28: 5.9
C30: 5.1
C32: 5.11
C34: 5.12
... C50: 5.2
C52: 5.21 | D52: TOTALE PRODUZIONE | E52: =+G52+I52+K52 -> 0 | G52: =SUM(G12,G14,G16,G18,G20,G22,G24,G26,G28,G30,G32,G34,G36,G38,G40,G42,G44,G46,G48,G50) -> 0 | I52: =SUM(I12,I14,I16,I18,I20,I22,I24,I26,I28,I30,I32,I34,I36,I38,I40,I42,I44,I46,I48,I50) -> 0 | K52: =SUM(K12,K14,K16,K18,K20,K22,K24,K26,K28,K30,K32,K34,K36,K38,K40,K42,K44,K46,K48,K50) -> 0
C54: 5.22 | D54: PERCENTUALE CALCOLATA | G54: =IF($E$52>0,(G52/$E$52)*100,0) -> 0 | I54: =IF($E$52>0,(I52/$E$52)*100,0) -> 0 | K54: =IF($E$52>0,(K52/$E$52)*100,0) -> 0
C56: 5.23 | D56: PERCENTUALE RICHIESTA A PUNTEGGIO
C59: N.B. NEL CASO DI PRODUZIONI CHE POSSANO FREGIARSI DI ENTRAMBI I TIPI DI CERTIFICAZIONE, ANDRANNO QUI SOPRA EVIDENZIATE LE RIGHE INTERESSATE, E GIUSTIFICARE NELLA RELAZIONE LE PERCENTUALI RICHIESTE IN DOMANDA DI AIUTO.
A65536: \

Sheet 6 PREVENTIVO_LAVORI 
D3: AVEPA - Agenzia veneta | F3: P.S.R. Veneto 2014-2020 | K3: azienda | M3: ='1.1 CONTO ECONOMICO ANTE'!$K$3 -> DITTA | AD3: Ricezione e stoccaggio materia prima | AE3: --
D4: per i pagamenti in agricoltura | F4: PIANO D'INVESTIMENTO AGROINDUSTRIALE | AE4: Fosse di carico
K5: CUAA | M5: ='1.1 CONTO ECONOMICO ANTE'!$K$5 -> 421 | AE5: Silos
AE6: Magazzini
AE7: Serbatoi
C8: PREVENTIVO DEI LAVORI | AE8: Stalle di sosta
AE9: --
AE10: Pese
J11: DESCRIZIONE | O11: DITTA - Numero Preventivo Scelto | Q11: IMPORTI (Euro) | AE11: Tunnel di raffreddamento (idrocooler …)
AD12: Lavorazione tal quale (prima lavorazione, prima gamma) | AE12: --
C13: 6.1 | D13: Strutture | G13: -- | AE13: Locali per pulizia
AE14: Locali per selezione
G15: --
G17: --
G19: --
G21: --
C23: 6.2 | D23: Attrezzature e Macchinari | G23: -- | AE23: Locali per essicazione
G25: --
G27: --
G29: --
G31: --
G33: --
G35: --
G37: --
G39: --
G41: --
AE42: Locali per calibratura
C43: A | D43: RICEZIONE E STOCCAGGIO MATERIA PRIMA | Q43: =SUM(Q13:Q41) -> 0 | AE43: Locali per appassimento uve
AE44: Locali per lavorazione latte (omogeneizzazione, pastorizzazione, UHT)
C45: 6.3 | D45: Strutture | G45: -- | AE45: Locali per macellazione
AE46: Locali per sezionamento (mezzene)
G47: -- | AE47: --
G49: --
G51: --
G53: --
AE54: Attrezzature e macchinari per pulizia
C55: 6.4 | D55: Attrezzature e macchinari | G55: -- | AE55: Attrezzature e macchinari per selezione
AE56: Attrezzature e macchinari per essicazione
G57: --
G59: --
...

Sheet 7 REIMPIEGO ENERGETICO
D3: AVEPA - Agenzia veneta | E3: P.S.R. Veneto 2014-2020 | H3: azienda | I3: ='1.1 CONTO ECONOMICO ANTE'!$K$3 -> DITTA
D4: per i pagamenti in agricoltura | E4: PIANO D'INVESTIMENTO AGROINDUSTRIALE | I4: ='1.1 CONTO ECONOMICO ANTE'!$K$4 -> 0
H5: CUAA | I5: ='1.1 CONTO ECONOMICO ANTE'!$K$5 -> 421
H10: -2 | J10: -1
C12: CONSUMO ANNUO DI ENERGIA ELETTRICA ANTE INVESTIMENTO (KW) | H12: 0 | J12: 0
H15: +1 | J15: +2
C17: CONSUMO ANNUO DI ENERGIA ELETTRICA POST INVESTIMENTO (KW) | H17: =+(+H12+J12)/2 -> 0 | J17: =+(+H12+J12)/2 -> 0
C19: INCREMENTI DI CONSUMO PREVISTI PER I NUOVI INVESTIMENTI (KW) | H19: 0 | J19: 0
C21: PRODUZIONE DI ENERGIA RINNOVABILE (KW) | H21: 0 | J21: 0
C23: CONSUMO MEDIO ANTE (KW) | F23: =AVERAGE(H12,J12) -> 0
C25: CONSUMO MEDIO POST (KW) | F25: =(SUM(H17,J17,H19,J19))/2 -> 0
C27: PRODUZIONE MEDIA POST (KW) | F27: =+(+H21+J21)/2 -> 0
C29: VERIFICA RISPETTO REIMPIEGO AZIENDALE | F29: =IF(F27<F25,"OK") -> FALSE
D37: VALORE AGGIUNTO OPERATIVO | F37: =+'1.1 CONTO ECONOMICO ANTE'!G34 -> 0 | H37: =+'1.1 CONTO ECONOMICO ANTE'!I34 -> 0 | J37: =+'1.1 CONTO ECONOMICO ANTE'!K34 -> 0
C41: 9.6 | D41: Numero di bilanci presentati | F41: ='2.1 STATO PATRIMONIALE ANTE'!O14 -> 0

Sheet 8 PUNTEGGIO PRIORITA
D3: AVEPA - Agenzia veneta | K3: P.S.R. Veneto 2014-2020 | P3: azienda | Q3: ='1.1 CONTO ECONOMICO ANTE'!$K$3 -> DITTA
D4: per i pagamenti in agricoltura | K4: PIANO D'INVESTIMENTO AGROINDUSTRIALE
P5: CUAA | Q5: ='1.1 CONTO ECONOMICO ANTE'!$K$5 -> 421
D8: PUNTEGGIO DI PRIORITA' SETTORIALI
G12: GRANDI COLTURE | J12: ORTOFRUTTA | M12: OLEICOLO | P12: LATTIERO CASEARIO | S12: CARNE E UOVA
D13: INVESTIMENTI STRUTTURALI E DOTAZIONALI | E13: Dati riporto foglio 6 | G13: Spesa richiesta | H13: Punti priorità | J13: Spesa richiesta | K13: Punti priorità | M13: Spesa richiesta | N13: Punti priorità | P13: Spesa richiesta | Q13: Punti priorità | S13: Spesa richiesta | T13: Punti priorità
B15: PRIORITA' INVESTIMENTI | C15: A | D15: Ricezione e stoccaggio materia prima | E15: ='6 PREVENTIVO_LAVORI '!Q43+('6 PREVENTIVO_LAVORI '!Q305*'6 PREVENTIVO_LAVORI '!D309)/100+('6 PREVENTIVO_LAVORI '!Q311*'6 PREVENTIVO_LAVORI '!D315)/100+('6 PREVENTIVO_LAVORI '!Q317*'6 PREVENTIVO_LAVORI '!D321)/100 -> 0 | G15: 0 | H15: =IF($E$48<>0,(I15*(G15/$E$48)),"") | I15: 40 | J15: 0 | K15: =IF($E$48<>0,(L15*(J15/$E$48)),"") | L15: 20 | M15: 0 | N15: =IF($E$48<>0,(O15*(M15/$E$48)),"") | O15: 20 | P15: 0 | Q15: =IF($E$48<>0,(R15*(P15/$E$48)),"") | R15: 20 | S15: 0 | T15: =IF($E$48<>0,(U15*(S15/$E$48)),"") | U15: 30
D16: di cui per interventi trasversali | E16: =('6 PREVENTIVO_LAVORI '!Q305*'6 PREVENTIVO_LAVORI '!D309)/100+('6 PREVENTIVO_LAVORI '!Q311*'6 PREVENTIVO_LAVORI '!D315)/100+('6 PREVENTIVO_LAVORI '!Q317*'6 PREVENTIVO_LAVORI '!D321)/100 -> 0
C17: B | D17: Lavorazione tal quale - prima lavorazione, prima gamma - | E17: ='6 PREVENTIVO_LAVORI '!Q75+('6 PREVENTIVO_LAVORI '!Q305*'6 PREVENTIVO_LAVORI '!E309)/100+('6 PREVENTIVO_LAVORI '!Q311*'6 PREVENTIVO_LAVORI '!E315)/100+('6 PREVENTIVO_LAVORI '!Q317*'6 PREVENTIVO_LAVORI '!E321)/100 -> 0 | G17: 0 | H17: =IF($E$48<>0,(I17*(G17/$E$48)),"") | I17: 30 | J17: 0 | K17: =IF($E$48<>0,(L17*(J17/$E$48)),"") | L17: 20 | M17: 0 | N17: =IF($E$48<>0,(O17*(M17/$E$48)),"") | O17: 0 | P17: 0 | Q17: =IF($E$48<>0,(R17*(P17/$E$48)),"") | R17: 30 | S17: 0 | T17: =IF($E$48<>0,(U17*(S17/$E$48)),"") | U17: 20
D18: di cui per interventi trasversali | E18: =('6 PREVENTIVO_LAVORI '!Q305*'6 PREVENTIVO_LAVORI '!E309)/100+('6 PREVENTIVO_LAVORI '!Q311*'6 PREVENTIVO_LAVORI '!E315)/100+('6 PREVENTIVO_LAVORI '!Q317*'6 PREVENTIVO_LAVORI '!E321)/100 -> 0
C19: C | D19: Lavorazione successiva alla prima | E19: ='6 PREVENTIVO_LAVORI '!Q107+('6 PREVENTIVO_LAVORI '!Q305*'6 PREVENTIVO_LAVORI '!F309)/100+('6 PREVENTIVO_LAVORI '!Q311*'6 PREVENTIVO_LAVORI '!F315)/100+('6 PREVENTIVO_LAVORI '!Q317*'6 PREVENTIVO_LAVORI '!F321)/100 -> 0 | G19: 0 | H19: =IF($E$48<>0,(I19*(G19/$E$48)),"") | I19: 0 | J19: 0 | K19: =IF($E$48<>0,(L19*(J19/$E$48)),"") | L19: 40 | M19: 0 | N19: =IF($E$48<>0,(O19*(M19/$E$48)),"") | O19: 0 | P19: 0 | Q19: =IF($E$48<>0,(R19*(P19/$E$48)),"") | R19: 0 | S19: 0 | T19: =IF($E$48<>0,(U19*(S19/$E$48)),"") | U19: 40
D20: di cui per interventi trasversali | E20: =('6 PREVENTIVO_LAVORI '!Q305*'6 PREVENTIVO_LAVORI '!F309)/100+('6 PREVENTIVO_LAVORI '!Q311*'6 PREVENTIVO_LAVORI '!F315)/100+('6 PREVENTIVO_LAVORI '!Q317*'6 PREVENTIVO_LAVORI '!F321)/100 -> 0
C21: D | D21: Trasformazione | E21: ='6 PREVENTIVO_LAVORI '!Q139+('6 PREVENTIVO_LAVORI '!Q305*'6 PREVENTIVO_LAVORI '!G309)/100+('6 PREVENTIVO_LAVORI '!Q311*'6 PREVENTIVO_LAVORI '!G315)/100+('6 PREVENTIVO_LAVORI '!Q317*'6 PREVENTIVO_LAVORI '!G321)/100 -> 0 | G21: 0 | H21: =IF($E$48<>0,(I21*(G21/$E$48)),"") | I21: 40 | J21: 0 | K21: =IF($E$48<>0,(L21*(J21/$E$48)),"") | L21: 40 | M21: 0 | N21: =IF($E$48<>0,(O21*(M21/$E$48)),"") | O21: 30 | P21: 0 | Q21: =IF($E$48<>0,(R21*(P21/$E$48)),"") | R21: 40 | S21: 0 | T21: =IF($E$48<>0,(U21*(S21/$E$48)),"") | U21: 40
D22: di cui per interventi trasversali | E22: =('6 PREVENTIVO_LAVORI '!Q305*'6 PREVENTIVO_LAVORI '!G309)/100+('6 PREVENTIVO_LAVORI '!Q311*'6 PREVENTIVO_LAVORI '!G315)/100+('6 PREVENTIVO_LAVORI '!Q317*'6 PREVENTIVO_LAVORI '!G321)/100 -> 0
C23: E | D23: Conservazione, stoccaggio, invecchiamento prodotti | E23: ='6 PREVENTIVO_LAVORI '!Q171+('6 PREVENTIVO_LAVORI '!Q305*'6 PREVENTIVO_LAVORI '!I309)/100+('6 PREVENTIVO_LAVORI '!Q311*'6 PREVENTIVO_LAVORI '!I315)/100+('6 PREVENTIVO_LAVORI '!Q317*'6 PREVENTIVO_LAVORI '!I321)/100 -> 0 | G23: 0 | H23: =IF($E$48<>0,(I23*(G23/$E$48)),"") | I23: 40 | J23: 0 | K23: =IF($E$48<>0,(L23*(J23/$E$48)),"") | L23: 30 | M23: 0 | N23: =IF($E$48<>0,(O23*(M23/$E$48)),"") | O23: 40 | P23: 0 | Q23: =IF($E$48<>0,(R23*(P23/$E$48)),"") | R23: 30 | S23: 0 | T23: =IF($E$48<>0,(U23*(S23/$E$48)),"") | U23: 30
D24: di cui per interventi trasversali | E24: =('6 PREVENTIVO_LAVORI '!Q305*'6 PREVENTIVO_LAVORI '!I309)/100+('6 PREVENTIVO_LAVORI '!Q311*'6 PREVENTIVO_LAVORI '!I315)/100+('6 PREVENTIVO_LAVORI '!Q317*'6 PREVENTIVO_LAVORI '!I321)/100 -> 0
C25: F | D25: Confezionamento | E25: ='6 PREVENTIVO_LAVORI '!Q203+('6 PREVENTIVO_LAVORI '!Q305*'6 PREVENTIVO_LAVORI '!J309)/100+('6 PREVENTIVO_LAVORI '!Q311*'6 PREVENTIVO_LAVORI '!J315)/100+('6 PREVENTIVO_LAVORI '!Q317*'6 PREVENTIVO_LAVORI '!J321)/100 -> 0 | G25: 0 | H25: =IF($E$48<>0,(I25*(G25/$E$48)),"") | I25: 40 | J25: 0 | K25: =IF($E$48<>0,(L25*(J25/$E$48)),"") | L25: 40 | M25: 0 | N25: =IF($E$48<>0,(O25*(M25/$E$48)),"") | O25: 40 | P25: 0 | Q25: =IF($E$48<>0,(R25*(P25/$E$48)),"") | R25: 40 | S25: 0 | T25: =IF($E$48<>0,(U25*(S25/$E$48)),"") | U25: 40
D26: di cui per interventi trasversali | E26: =('6 PREVENTIVO_LAVORI '!Q305*'6 PREVENTIVO_LAVORI '!J309)/100+('6 PREVENTIVO_LAVORI '!Q311*'6 PREVENTIVO_LAVORI '!J315)/100+('6 PREVENTIVO_LAVORI '!Q317*'6 PREVENTIVO_LAVORI '!J321)/100 -> 0
C27: G | D27: Logicistica commerciale automatizzata | E27: ='6 PREVENTIVO_LAVORI '!Q235+('6 PREVENTIVO_LAVORI '!Q305*'6 PREVENTIVO_LAVORI '!K309)/100+('6 PREVENTIVO_LAVORI '!Q311*'6 PREVENTIVO_LAVORI '!K315)/100+('6 PREVENTIVO_LAVORI '!Q317*'6 PREVENTIVO_LAVORI '!K321)/100 -> 0 | G27: 0 | H27: =IF($E$48<>0,(I27*(G27/$E$48)),"") | I27: 40 | J27: 0 | K27: =IF($E$48<>0,(L27*(J27/$E$48)),"") | L27: 40 | M27: 0 | N27: =IF($E$48<>0,(O27*(M27/$E$48)),"") | O27: 40 | P27: 0 | Q27: =IF($E$48<>0,(R27*(P27/$E$48)),"") | R27: 40 | S27: 0 | T27: =IF($E$48<>0,(U27*(S27/$E$48)),"") | U27: 40
D28: di cui per interventi trasversali | E28: =('6 PREVENTIVO_LAVORI '!Q305*'6 PREVENTIVO_LAVORI '!K309)/100+('6 PREVENTIVO_LAVORI '!Q311*'6 PREVENTIVO_LAVORI '!K315)/100+('6 PREVENTIVO_LAVORI '!Q317*'6 PREVENTIVO_LAVORI '!K321)/100 -> 0
C29: H | D29: Laboratorio | E29: ='6 PREVENTIVO_LAVORI '!Q269+('6 PREVENTIVO_LAVORI '!Q305*'6 PREVENTIVO_LAVORI '!L309)/100+('6 PREVENTIVO_LAVORI '!Q311*'6 PREVENTIVO_LAVORI '!L315)/100+('6 PREVENTIVO_LAVORI '!Q317*'6 PREVENTIVO_LAVORI '!L321)/100 -> 0 | G29: 0 | H29: =IF($E$48<>0,(I29*(G29/$E$48)),"") | I29: 40 | J29: 0 | K29: =IF($E$48<>0,(L29*(J29/$E$48)),"") | L29: 30 | M29: 0 | N29: =IF($E$48<>0,(O29*(M29/$E$48)),"") | O29: 30 | P29: 0 | Q29: =IF($E$48<>0,(R29*(P29/$E$48)),"") | R29: 30 | S29: 0 | T29: =IF($E$48<>0,(U29*(S29/$E$48)),"") | U29: 20
D30: di cui per interventi trasversali | E30: =('6 PREVENTIVO_LAVORI '!Q305*'6 PREVENTIVO_LAVORI '!L309)/100+('6 PREVENTIVO_LAVORI '!Q311*'6 PREVENTIVO_LAVORI '!L315)/100+('6 PREVENTIVO_LAVORI '!Q317*'6 PREVENTIVO_LAVORI '!L321)/100 -> 0
C31: I | D31: Punto vendita | E31: ='6 PREVENTIVO_LAVORI '!Q303+('6 PREVENTIVO_LAVORI '!Q305*'6 PREVENTIVO_LAVORI '!M309)/100+('6 PREVENTIVO_LAVORI '!Q311*'6 PREVENTIVO_LAVORI '!M315)/100+('6 PREVENTIVO_LAVORI '!Q317*'6 PREVENTIVO_LAVORI '!M321)/100 -> 0 | G31: 0 | H31: =IF($E$48<>0,(I31*(G31/$E$48)),"") | I31: 20 | J31: 0 | K31: =IF($E$48<>0,(L31*(J31/$E$48)),"") | L31: 30 | M31: 0 | N31: =IF($E$48<>0,(O31*(M31/$E$48)),"") | O31: 40 | P31: 0 | Q31: =IF($E$48<>0,(R31*(P31/$E$48)),"") | R31: 40 | S31: 0 | T31: =IF($E$48<>0,(U31*(S31/$E$48)),"") | U31: 30
D32: di cui per interventi trasversali | E32: =('6 PREVENTIVO_LAVORI '!Q305*'6 PREVENTIVO_LAVORI '!M309)/100+('6 PREVENTIVO_LAVORI '!Q311*'6 PREVENTIVO_LAVORI '!M315)/100+('6 PREVENTIVO_LAVORI '!Q317*'6 PREVENTIVO_LAVORI '!M321)/100 -> 0
C33: K | D33: Altri investimenti non compresi nei punti precedenti | E33: ='6 PREVENTIVO_LAVORI '!Q325 -> 0 | G33: 0 | I33: 0 | J33: 0 | L33: 0 | M33: 0 | O33: 0 | P33: 0 | R33: 0 | S33: 0 | U33: 0
C35: L | D35: TOTALE INVESTIMENTI MATERIALI (deve coincidere con foglio 6, punto K) | E35: =E31+E29+E27+E25+E23+E21+E19+E17+E15+E33 -> 0 | G35: =SUM(G15:G33) -> 0 | H35: =SUM(H15:H33) -> 0 | J35: =SUM(J15:J33) -> 0 | K35: =SUM(K15:K33) -> 0 | M35: =SUM(M15:M33) -> 0 | N35: =SUM(N15:N33) -> 0 | P35: =SUM(P15:P33) -> 0 | Q35: =SUM(Q15:Q33) -> 0 | S35: =SUM(S15:S33) -> 0 | T35: =SUM(T15:T33) -> 0
C37: J (4.1.5) | D37: Investimenti trasversali alle varie fasi: impianti per la produzione di energia da scarti e sottoprodotti di lavorazione, fotovoltaico, geotermico, eolico | E37: ='6 PREVENTIVO_LAVORI '!Q305 -> 0 | H37: =IF($E$48<>0,(I37*(E37/$E$48)),"") | I37: 10 | K37: =IF($E$48<>0,(L37*(E37/$E$48)),"") | L37: 10 | N37: =IF($E$48<>0,(O37*(E37/$E$48)),"") | O37: 10 | Q37: =IF($E$48<>0,(R37*(E37/$E$48)),"") | R37: 10 | T37: =IF($E$48<>0,(U37*(E37/$E$48)),"") | U37: 10
C39: J (4.1.6) | D39: Investimenti trasversali alle varie fasi: risparmio idrico e depurazione acque | E39: ='6 PREVENTIVO_LAVORI '!Q311 -> 0 | H39: =IF($E$48<>0,(I39*(E39/$E$48)),"") | I39: 10 | K39: =IF($E$48<>0,(L39*(E39/$E$48)),"") | L39: 10 | N39: =IF($E$48<>0,(O39*(E39/$E$48)),"") | O39: 10 | Q39: =IF($E$48<>0,(R39*(E39/$E$48)),"") | R39: 10 | T39: =IF($E$48<>0,(U39*(E39/$E$48)),"") | U39: 10
C41: J (4.1.7) | D41: Investimenti trasversali alle varie fasi: rimozione e smaltimento dell'amianto | E41: ='6 PREVENTIVO_LAVORI '!Q317 -> 0 | H41: =IF($E$48<>0,(I41*(E41/$E$48)),"") | I41: 10 | K41: =IF($E$48<>0,(L41*(E41/$E$48)),"") | L41: 10 | N41: =IF($E$48<>0,(O41*(E41/$E$48)),"") | O41: 10 | Q41: =IF($E$48<>0,(R41*(E41/$E$48)),"") | R41: 10 | T41: =IF($E$48<>0,(U41*(E41/$E$48)),"") | U41: 10
C43: (4.1.8) | D43: di cui Macchine ed impianti per nuovi prodotti (ricomprese nelle voci da A ad I) | E43: - | G43: 0 | H43: =IF($E$48<>0,(I43*(G43/$E$48)),"") | I43: 5 | J43: 0 | K43: =IF($E$48<>0,(L43*(J43/$E$48)),"") | L43: 5 | M43: 0 | N43: =IF($E$48<>0,(O43*(M43/$E$48)),"") | O43: 5 | P43: 0 | Q43: =IF($E$48<>0,(R43*(P43/$E$48)),"") | R43: 5 | S43: 0 | T43: =IF($E$48<>0,(U43*(S43/$E$48)),"") | U43: 5
C45: (4.1.9) | D45: di cui Ristrutturazione o acquisto con ristrutturazione di fabbricati industriali (esclusa rimozione e smaltimento dell'amianto) (ricompreso nelle voci da A ad I) | E45: - | G45: 0 | H45: =IF($E$48<>0,(I45*(G45/$E$48)),"") | I45: 5 | J45: 0 | K45: =IF($E$48<>0,(L45*(J45/$E$48)),"") | L45: 5 | M45: 0 | N45: =IF($E$48<>0,(O45*(M45/$E$48)),"") | O45: 5 | P45: 0 | Q45: =IF($E$48<>0,(R45*(P45/$E$48)),"") | R45: 5 | S45: 0 | T45: =IF($E$48<>0,(U45*(S45/$E$48)),"") | U45: 5
C47: N | D47: INVESTIMENTI TRASVERSALI ALLE VARIE FASI (foglio 6, voce J) | E47: =+'6 PREVENTIVO_LAVORI '!Q323 -> 0
C48: O | D48: TOTALE INVESTIMENTI MATERIALI (foglio 6, voce L) | E48: ='6 PREVENTIVO_LAVORI '!Q327 -> 0
C49: P | D49: PUNTEGGIO TOTALE (L+J+4.1.8+4,1,9) | H49: =IF(G35<>0,(H35+H37+H39+H41+H43+H45),0) -> 0 | K49: =IF(J35<>0,(K35+K37+K39+K41+K43+K45),0) -> 0 | N49: =IF(M35<>0,(N35+N37+N39+N41+N43+N45),0) -> 0 | Q49: =IF(P35<>0,(Q35+Q37+Q39+Q41+Q43+Q45),0) -> 0 | T49: =IF(S35<>0,(T35+T37+T39+T41+T43+T45),0) -> 0
C50: Q | D50: verifica corrispondenza importo TOTALE INVESTIMENTI MATERIALI (fogli 6 e 8, voce K) | G50: =IF(AND(G35<>0,$E$48<>0),IF(G35=$E$48,"OK","ERRORE"),"") | J50: =IF(AND(J35<>0,$E$48<>0),IF(J35=$E$48,"OK","ERRORE"),"") | M50: =IF(AND(M35<>0,$E$48<>0),IF(M35=$E$48,"OK","ERRORE"),"") | P50: =IF(AND(P35<>0,$E$48<>0),IF(P35=$E$48,"OK","ERRORE"),"") | S50: =IF(AND(S35<>0,$E$48<>0),IF(S35=$E$48,"OK","ERRORE"),"")

Sheet 6-4_PREVENTIVO_LAVORI_OUT
A1: MISURA | B1: CUAA | C1: PROT-N | D1: DEL | E1: 6-A | F1: 6-B | G1: 6-C | H1: 6-D | I1: 6-E | J1: 6-F | K1: 6-G | L1: 6-H | M1: 6-G-1 | N1: 6-H-1 | O1: 6-I
A2: #NAME? | B2: #NAME? | C2: #NAME? | D2: #REF! | E2: #NAME? | F2: #NAME? | G2: #NAME? | H2: #NAME? | I2: #NAME? | J2: #NAME? | K2: #NAME? | L2: #NAME? | M2: #NAME? | N2: #NAME? | O2: #NAME?

Sheet 6-5_COSTI_UNITARI_OUT
A1: MISURA | B1: CUAA | C1: PROT-N | D1: DEL | E1: 6-20_B | F1: 6-20_C | G1: 6-20_D | H1: 6-20_E
A2: #REF! | B2: #VALUE! | C2: #VALUE! | D2: #REF! | E2: #REF! | F2: #REF! | G2: #VALUE! | H2: #REF!

Sheet 7_PIANO_FINANZIARIO_OUT
A1: MISURA | B1: CUAA | C1: PROT-N | D1: DEL | E1: 7-A | F1: 7-6 | G1: 7-B | H1: 7-C | I1: 7-D | J1: 7-7 | K1: 7-8 | L1: 7-C-1 | M1: 7-D-1 | N1: A-1 | O1: 7-9 | P1: 7-10 | Q1: 7-11 | R1: 7-E | S1: A-1-a | T1: A-1-b | U1: A-2 | V1: 7-12 | W1: 7-13 | X1: 7-14 | Y1: 7-F | Z1: A-2-a | AA1: A-2-b | AB1: A-3 | AC1: 7-15 | AD1: 7-16 | AE1: 7-17 | AF1: 7-G | AG1: A-3-a | AH1: A-3-b
A2: #REF! | B2: #VALUE! | C2: #VALUE! | D2: #REF! | E2: #REF! | F2: #REF! | G2: #REF! | H2: #REF! | I2: #REF! | J2: #REF! | K2: #REF! | L2: #REF! | M2: #REF! | N2: #VALUE! | O2: #REF! | P2: #REF! | Q2: #REF! | R2: #REF! | S2: #REF! | T2: #REF! | U2: #VALUE! | V2: #REF! | W2: #REF! | X2: #REF! | Y2: #REF! | Z2: #REF! | AA2: #REF! | AB2: #VALUE! | AC2: #REF! | AD2: #REF! | AE2: #REF! | AF2: #REF! | AG2: #REF! | AH2: #REF!

Sheet PREREQUISITO_2_ROI_OUT
A1: MISURA | B1: CUAA | C1: PROT-N | D1: DEL | E1: 9-4_-1 | F1: 9-4_-2 | G1: 9-4_-3 | H1: 9-5 | I1: 9-6
A2: #REF! | B2: #VALUE! | C2: #VALUE! | D2: #REF! | E2: =PREREQUISITO_1_ROI!F17 -> 0 | F2: =PREREQUISITO_1_ROI!H17 -> 0 | G2: =PREREQUISITO_1_ROI!J17 -> 0 | H2: =PREREQUISITO_1_ROI!F30 -> 0 | I2: =PREREQUISITO_1_ROI!F41 -> 0

Sheet PREVENTIVO_LAVORI_APPROVATO
A1: MISURA | B1: CUAA | C1: PROT-N | D1: DEL | E1: 6-A | F1: 6-B | G1: 6-C | H1: 6-D | I1: 6-E | J1: 6-F | K1: 6-G | L1: 6-H | M1: 6-G-1 | N1: 6-H-1 | O1: 6-I
A2: #NAME? | B2: #NAME? | C2: #NAME? | D2: #REF! | E2: 0 | F2: 0 | G2: 0 | H2: 0 | I2: 0 | J2: 0 | K2: #NAME? | L2: #NAME? | M2: 0 | N2: 0 | O2: 0

Sheet PIANO_FINANZIARIO_APPROVATO
A1: MISURA | B1: CUAA | C1: PROT-N | D1: DEL | E1: 7-A | F1: 7-6 | G1: 7-B | H1: 7-C | I1: 7-D | J1: 7-7 | K1: 7-8 | L1: 7-C-1 | M1: 7-D-1 | N1: A-1 | O1: 7-9 | P1: 7-10 | Q1: 7-11 | R1: 7-E | S1: A-1-a | T1: A-1-b | U1: A-2 | V1: 7-12 | W1: 7-13 | X1: 7-14 | Y1: 7-F | Z1: A-2-a | AA1: A-2-b | AB1: A-3 | AC1: 7-15 | AD1: 7-16 | AE1: 7-17 | AF1: 7-G | AG1: A-3-a | AH1: A-3-b
A2: #REF! | B2: #VALUE! | C2: #VALUE! | D2: #REF! | E2: 0 | F2: 0 | G2: 0 | H2: 0 | I2: 0 | J2: 0 | K2: 0 | L2: #REF! | M2: #REF! | N2: #VALUE! | O2: 0 | P2: 0 | Q2: 0 | R2: 0 | S2: #REF! | T2: #REF! | U2: #VALUE! | V2: 0 | W2: 0 | X2: 0 | Y2: 0 | Z2: #REF! | AA2: #REF! | AB2: #VALUE! | AC2: 0 | AD2: 0 | AE2: 0 | AF2: 0 | AG2: #REF! | AH2: #REF!

Sheet DOCUMENTI_ALLEGATI
A1: MISURA | B1: CUAA | C1: PROT-N | D1: DEL | E1: ALLEGATO_7-2 | F1: ALLEGATO_7-3 | G1: 1 | H1: 2 | I1: 3 | J1: 4 | K1: DATA_4 | L1: DATA_SCADENZA_4 | M1: 5 | N1: DATA_5 | O1: 6 | P1: 7 | Q1: 8 | R1: 9 | S1: 10 | T1: 11 | U1: 12 | V1: 13
A2: #REF! | B2: #VALUE! | C2: #VALUE! | D2: #REF! | E2: S | F2: S | G2: S | H2: S | I2: S | J2: S | K2: 36524 | L2: 36524 | M2: S | N2: 36524 | O2: S | P2: S | Q2: S | R2: S | S2: S | T2: S | U2: S | V2: S

Sheet RICEVIBILITA_DATI_ISTRUTTORIA
A1: MISURA | B1: CUAA | C1: PROT-N | D1: DEL | E1: RICEVIBILE | F1: ISTRUTTORE | G1: CONCESSIONE_EDILIZIA | H1: DATA_PRESENTAZIONE_C_E | I1: DATA_60_GIORNI_DA_TERMINE_PRESENTAZIONE_DOM | J1: PRESENTAZIONE_CONCESSIONE_EDILIZIA_ENTRO_60_GIORNI | K1: ISTRUITA | L1: DATA_CONCLUSIONE_ISTRUTTORIA
A2: #REF! | B2: #VALUE! | C2: #VALUE! | D2: #REF! | E2: S | F2: - | G2: S | H2: 36524 | I2: 37002 | J2: S | K2: S | L2: 36524

Sheet PRIORITA_GRADUATORIA
A1: MISURA | B1: CUAA | C1: PROT-N | D1: DEL | E1: PRIORITA'_A_AREA_PUNTI | F1: PRIORITA'_B_PRODUTTORI_PUNTI | G1: PUNTEGGIO_BIOLOGICO | H1: PUNTEGGIO_A_DENOMINAZIONE | I1: PUNTEGGIO_IGT | J1: PUNTEGGIO_AS | K1: PRIORITA'_MAGGIORE_C_PRODOTTI_PUNTI | L1: PUNTEGGIO_REG_1836 | M1: PUNTEGGIO_ISO_9000 | N1: PUNTEGGIO_ISO_14000 | O1: PRIORITA'_MAGGIORE_D_INTERVENTO_PUNTI | P1: PUNTI_TOTALE | Q1: PROGETTI_5_ANNI_PRECEDENTI | R1: INVESTIMENTO_ESCLUSIVO_IMPIANTI | S1: CONCESSIONE_EDILIZIA_ENTRO_60_GIORNI | T1: %_IMPIANTI_SU_VOLUME_INVESTIMENTO | U1: INVESTIMENTO_ESCLUSIVO_IMMOBILI | V1: AMMESSA_A_CONTRIBUTO
A2: #REF! | B2: #VALUE! | C2: #VALUE! | D2: #REF! | E2: 0 | F2: 0 | G2: 0 | H2: 0 | I2: 0 | J2: 0 | K2: 0 | L2: 0 | M2: 0 | N2: 0 | O2: 0 | P2: 0 | Q2: #VALUE! | R2: #NAME? | S2: 2 | T2: #NAME? | U2: #NAME? | V2: S
