Workbook
Name __xlnm.Print_Titles_0_0: #REF!
Name __xlnm.Print_Titles_0_0_0: #REF!
Name OLE_LINK1: #N/A

Sheet Piano_dei_costi
A1: PIANO DEI COSTI - MIS. 3.2.1 REGIME DI QUALITA' ___________(Scegliere uno tra: DOP-IGP dei Vini - DOP-IGP-STG dei Prodotti Agricoli - Produzione Biologica – Sistema di Qualità QV - SQNPI - SQNZOO) PROGETTO (ATI/ATS o INDIVIDUALE) PER LA PROMOZIONE DEL/DEI __________
B5: A) AZIONI DI INFORMAZIONE | F5: 0.7
C7: A1 – Azioni da realizzare in territorio Veneto | D7: Importi (€) | E7: Ditta prescelta | F7: contributo
B8: 1. Organizzazione e partecipazione a fiere, mostre ed altri eventi | C8: a - quota di iscrizione alla manifestazione | D8: 0 | F8: =D8*0.7 -> 0
C9: b -affitto, allestimento e manutenzione dello spazio espositivo | D9: 0 | F9: =D9*0.7 -> 0
C10: c -compensi e rimborsi per interpreti, hostess, sommeliers e altri prestatori di servizi qualificati | D10: 0 | F10: =D10*0.7 -> 0
C11: d -acquisto di materiale da consumo per degustazioni | D11: 0 | F11: =D11*0.7 -> 0
C12: e -costi di spedizione dei prodotti e del materiale promozionale | D12: 0 | F12: =D12*0.7 -> 0
C13: f -noleggio di materiale di supporto e servizi | D13: 0 | F13: =D13*0.7 -> 0
C14: g -spese di viaggio, vitto e alloggio del personale del richiedente utilizzato per l’organizzazione e gestione dello stand durante la manifestazione | D14: 0 | F14: =D14*0.7 -> 0
C15: h - compensi per attività di ufficio stampa | D15: 0 | F15: =D15*0.7 -> 0
C16: Parziale | D16: =SUM(Piano_dei_costi!D8:D15) -> 0 | F16: =SUM(F8:F15) -> 0
B17: 2. Pubblicazioni e divulgazioni di conoscenze destinate a sensibilizzare il grande pubblico, inmerito ai prodotti dei regimi di qualità | C17: a - consulenze per attività di studio e ricerca | D17: 0 | F17: =D17*0.7 -> 0
C18: b – spese di creazione grafica, progettazione, elaborazione testi, traduzione, stampa, riproduzione e distribuzione di prodotti cartacei e multimediali | D18: 0 | F18: =Piano_dei_costi!D18*0.7 -> 0
C19: Parziale | D19: =SUM(Piano_dei_costi!D17:D18) -> 0 | F19: =Piano_dei_costi!D19*0.7 -> 0
B20: Spese di gestione | C20: a – spese di funzionamento | D20: 0 | F20: =Piano_dei_costi!D20*0.7 -> 0
C21: b1 – spese di personale interno | D21: 0 | F21: =Piano_dei_costi!D21*0.7 -> 0
C22: b2 – spese di personale esterno | D22: 0 | F22: =Piano_dei_costi!D22*0.7 -> 0
C23: Parziale | D23: =SUM(Piano_dei_costi!D20:D22) -> 0 | F23: =Piano_dei_costi!D23*0.7 -> 0
C24: Totale A1 | D24: =SUM(Piano_dei_costi!D16+Piano_dei_costi!D23+Piano_dei_costi!D19) -> 0 | F24: =Piano_dei_costi!D24*0.7 -> 0
C26: A2 – Azioni da realizzare fuori territorio Veneto | D26: Importi (€) | E26: Ditta prescelta | F26: contributo
B27: 1. Organizzazione e partecipazione a fiere, mostre ed altri eventi | C27: a - quota di iscrizione alla manifestazione | D27: 0 | F27: =[1]Piano_dei_costi!D27*0.7 -> 0
C28: b -affitto, allestimento e manutenzione dello spazio espositivo | D28: 0 | F28: =[1]Piano_dei_costi!D28*0.7 -> 0
C29: c -compensi e rimborsi per interpreti, hostess, sommeliers e altri prestatori di servizi qualificati | D29: 0 | F29: =[1]Piano_dei_costi!D29*0.7 -> 0
C30: d -acquisto di materiale da consumo per degustazioni | D30: 0 | F30: =[1]Piano_dei_costi!D30*0.7 -> 0
C31: e -costi di spedizione dei prodotti e del materiale promozionale | D31: 0 | F31: =[1]Piano_dei_costi!D31*0.7 -> 0
C32: f -noleggio di materiale di supporto e servizi | D32: 0 | F32: =[1]Piano_dei_costi!D32*0.7 -> 0
C33: g -spese di viaggio, vitto e alloggio del personale del richiedente utilizzato per l’organizzazione e gestione dello stand durante la manifestazione | D33: 0 | F33: =[1]Piano_dei_costi!D33*0.7 -> 0
C34: h - compensi per attività di ufficio stampa | D34: 0 | F34: =[1]Piano_dei_costi!D34*0.7 -> 0
C35: Parziale | D35: =SUM(Piano_dei_costi!D27:D34) -> 0 | F35: =SUM([1]Piano_dei_costi!F27:F34) -> 0
B36: 2. Pubblicazioni e divulgazioni di conoscenze destinate a sensibilizzare il grande pubblico, inmerito ai prodotti dei regimi di qualità | C36: a - consulenze per attività di studio e ricerca | D36: 0 | F36: =[1]Piano_dei_costi!D36*0.7 -> 0
C37: b – spese di creazione grafica, progettazione, elaborazione testi, traduzione, stampa, riproduzione e distribuzione di prodotti cartacei e multimediali | D37: 0 | F37: =[1]Piano_dei_costi!D37*0.7 -> 0
C38: Parziale | D38: =SUM(Piano_dei_costi!D36:D37) -> 0 | F38: =SUM([1]Piano_dei_costi!F36:F37) -> 0
B39: Spese di gestione | C39: a – spese di funzionamento | D39: 0 | F39: =[1]Piano_dei_costi!D39*0.7 -> 0
C40: b1 – spese di personale interno | D40: 0 | F40: =[1]Piano_dei_costi!D40*0.7 -> 0
C41: b2 – spese di personale esterno | D41: 0 | F41: =[1]Piano_dei_costi!D41*0.7 -> 0
C42: Parziale | D42: =SUM(Piano_dei_costi!D39:D41) -> 0 | F42: =SUM([1]Piano_dei_costi!F39:F41) -> 0
C43: Totale A2 | D43: =SUM(Piano_dei_costi!D35+Piano_dei_costi!D42+Piano_dei_costi!D38) -> 0 | F43: =Piano_dei_costi!D43*0.7 -> 0
C45: Totale A | D45: =SUM(Piano_dei_costi!D24+Piano_dei_costi!D43) -> 0 | F45: =Piano_dei_costi!D45*0.7 -> 0
B48: B) AZIONI DI PROMOZIONE | F48: 0.5
...

Sheet Calcolo_VPC_DOP
B2: Valori Produzione Certificata (VPC)
B4: Denominazione | C4: Produz. Certificata Tonn/lt | D4: Valore mercuriale | E4: Valore produzione | F4: Fonte della quotazione (es. CCIAA di ______, Fatture di vendita, ecc)
C5: 0 | D5: 0 | E5: =C5*D5 -> 0
C6: 0 | D6: 0 | E6: =C6*D6 -> 0
C7: 0 | D7: 0 | E7: =C7*D7 -> 0
C8: 0 | D8: 0 | E8: =C8*D8 -> 0
C9: 0 | D9: 0 | E9: =C9*D9 -> 0
C10: 0 | D10: 0 | E10: =C10*D10 -> 0
C11: 0 | D11: 0 | E11: =C11*D11 -> 0
C12: 0 | D12: 0 | E12: =C12*D12 -> 0
C13: 0 | D13: 0 | E13: =C13*D13 -> 0
C14: 0 | D14: 0 | E14: =C14*D14 -> 0
C15: 0 | D15: 0 | E15: =C15*D15 -> 0
B16: totale | C16: =SUM(C5:C15) -> 0 | E16: =SUM(E5:E15) -> 0
B20: Scaglioni
B21: Valore della produzione | C21: % | D21: Spesa ammissibile | E21: Scaglioni
B22: 0 | C22: 60 | D22: =(B22*C22/100) -> 0 | E22: 16.667≤100.000
B23: 0 | C23: 20 | D23: =C23*B23/100 -> 0 | E23: 100.001≤800.000
B24: 0 | C24: 10 | D24: =C24*B24/100 -> 0 | E24: 800.001≤2.799.990
B25: 0 | C25: - | D25: =IF(B25=0,0,200000) -> 0 | E25: >2.799.990
B26: spesa massima ammissibile in base agli Scaglioni | D26: =IF(D25>0,D25,SUM(D22:D24)) -> 0
B27: spesa massima ammissibile da Bando | D27: 225000
D30: data: ___/___/201__
D33: firma: ________________________________

Sheet Calcolo_VPC_x_ATI_DOP
B2: Valori Produzione Certificata (VPC)
B4: Denominazione | C4: Produz. Certificata Tonn/lt | D4: Valore mercuriale | E4: Valore produzione | F4: Fonte della quotazione (es. CCIAA di __, Fatture di vendita, ecc)
C5: 0 | D5: 0 | E5: =C5*D5 -> 0
C6: 0 | D6: 0 | E6: =C6*D6 -> 0
C7: 0 | D7: 0 | E7: =C7*D7 -> 0
C8: 0 | D8: 0 | E8: =C8*D8 -> 0
C9: 0 | D9: 0 | E9: =C9*D9 -> 0
C10: 0 | D10: 0 | E10: =C10*D10 -> 0
C11: 0 | D11: 0 | E11: =C11*D11 -> 0
C12: 0 | D12: 0 | E12: =C12*D12 -> 0
C13: 0 | D13: 0 | E13: =C13*D13 -> 0
C14: 0 | D14: 0 | E14: =C14*D14 -> 0
C15: 0 | D15: 0 | E15: =C15*D15 -> 0
B16: totale | C16: =SUM(C5:C15) -> 0 | E16: =SUM(E5:E15) -> 0
B20: Scaglioni
B21: Valore della produzione | C21: % | D21: Spesa ammissibile | E21: Scaglioni
B22: 0 | C22: 60 | D22: =Calcolo_VPC_x_ATI_DOP!C22*Calcolo_VPC_x_ATI_DOP!B22/100 -> 0 | E22: 16.667≤100.000
B23: 0 | C23: 20 | D23: =C23*B23/100 -> 0 | E23: 100.001≤800.000
B24: 0 | C24: 10 | D24: =C24*B24/100 -> 0 | E24: 800.001≤2.799.990
B25: 0 | C25: - | D25: =IF(B25=0,0,400000) -> 0 | E25: >2.799.990
B26: spesa massima ammissibile in base agli Scaglioni | D26: =IF(D25>0,D25,SUM(D22:D24)) -> 0
B27: spesa massima ammissibile da Bando | D27: 225000
D30: data: ___/___/201__
D33: firma: ________________________________

Sheet Calcolo_VPC_QV_SQNZO
B2: Valori Produzione Certificata (VPC)
B4: Denominazione | C4: Produz. Certificata Tonn/lt | D4: Valore mercuriale | E4: Valore produzione | F4: Fonte della quotazione (es. CCIAA di ______, Fatture di vendita, ecc)
C5: 0 | D5: 0 | E5: =C5*D5 -> 0
C6: 0 | D6: 0 | E6: =C6*D6 -> 0
C7: 0 | D7: 0 | E7: =C7*D7 -> 0
C8: 0 | D8: 0 | E8: =C8*D8 -> 0
C9: 0 | D9: 0 | E9: =C9*D9 -> 0
C10: 0 | D10: 0 | E10: =C10*D10 -> 0
C11: 0 | D11: 0 | E11: =C11*D11 -> 0
C12: 0 | D12: 0 | E12: =C12*D12 -> 0
C13: 0 | D13: 0 | E13: =C13*D13 -> 0
C14: 0 | D14: 0 | E14: =C14*D14 -> 0
C15: 0 | D15: 0 | E15: =C15*D15 -> 0
B16: totale | C16: =SUM(C5:C15) -> 0 | E16: =SUM(E5:E15) -> 0
B20: Scaglioni
B21: Valore della produzione | C21: % | D21: Spesa ammissibile | E21: Scaglioni
B22: 0 | C22: 60 | D22: =(B22*C22/100) -> 0 | E22: 16.667≤100.000
B23: 0 | C23: 20 | D23: =C23*B23/100 -> 0 | E23: 100.001≤800.000
B24: 0 | C24: 10 | D24: =C24*B24/100 -> 0 | E24: 800.001≤2.799.990
B25: 0 | C25: - | D25: =IF(B25=0,0,150000) -> 0 | E25: >2.799.990
B26: spesa massima ammissibile in base agli Scaglioni | D26: =IF(D25>0,D25,SUM(D22:D24)) -> 0
B27: spesa massima ammissibile da Bando | D27: 225000
D30: data: ___/___/201__
D33: firma: ________________________________

Sheet Calcolo_VPC_x_ATI_QV_SQN
B2: Valori Produzione Certificata (VPC)
B4: Denominazione | C4: Produz. Certificata Tonn/lt | D4: Valore mercuriale | E4: Valore produzione | F4: Fonte della quotazione (es. CCIAA di __, Fatture di vendita, ecc)
C5: 0 | D5: 0 | E5: =C5*D5 -> 0
C6: 0 | D6: 0 | E6: =C6*D6 -> 0
C7: 0 | D7: 0 | E7: =C7*D7 -> 0
C8: 0 | D8: 0 | E8: =C8*D8 -> 0
C9: 0 | D9: 0 | E9: =C9*D9 -> 0
C10: 0 | D10: 0 | E10: =C10*D10 -> 0
C11: 0 | D11: 0 | E11: =C11*D11 -> 0
C12: 0 | D12: 0 | E12: =C12*D12 -> 0
C13: 0 | D13: 0 | E13: =C13*D13 -> 0
C14: 0 | D14: 0 | E14: =C14*D14 -> 0
C15: 0 | D15: 0 | E15: =C15*D15 -> 0
B16: totale | C16: =SUM(C5:C15) -> 0 | E16: =SUM(E5:E15) -> 0
B20: Scaglioni
B21: Valore della produzione | C21: % | D21: Spesa ammissibile | E21: Scaglioni
B22: 0 | C22: 60 | D22: =Calcolo_VPC_x_ATI_QV_SQN!C22*Calcolo_VPC_x_ATI_QV_SQN!B22/100 -> 0 | E22: 16.667≤100.000
B23: 0 | C23: 20 | D23: =C23*B23/100 -> 0 | E23: 100.001≤800.000
B24: 0 | C24: 10 | D24: =C24*B24/100 -> 0 | E24: 800.001≤2.799.990
B25: 0 | C25: - | D25: =IF(B25=0,0,300000) -> 0 | E25: >2.799.990
B26: spesa massima ammissibile in base agli Scaglioni | D26: =IF(D25>0,D25,SUM(D22:D24)) -> 0
B27: spesa massima ammissibile da Bando | D27: 225000
D30: data: ___/___/201__
D33: firma: ________________________________
